BEGIN:VCALENDAR
VERSION:2.0
PRODID:-//Brass Peacock - ECPv6.15.20//NONSGML v1.0//EN
CALSCALE:GREGORIAN
METHOD:PUBLISH
X-WR-CALNAME:Brass Peacock
X-ORIGINAL-URL:https://brasspeacock.com
X-WR-CALDESC:Events for Brass Peacock
REFRESH-INTERVAL;VALUE=DURATION:PT1H
X-Robots-Tag:noindex
X-PUBLISHED-TTL:PT1H
BEGIN:VTIMEZONE
TZID:America/Chicago
BEGIN:DAYLIGHT
TZOFFSETFROM:-0600
TZOFFSETTO:-0500
TZNAME:CDT
DTSTART:20250309T080000
END:DAYLIGHT
BEGIN:STANDARD
TZOFFSETFROM:-0500
TZOFFSETTO:-0600
TZNAME:CST
DTSTART:20251102T070000
END:STANDARD
BEGIN:DAYLIGHT
TZOFFSETFROM:-0600
TZOFFSETTO:-0500
TZNAME:CDT
DTSTART:20260308T080000
END:DAYLIGHT
BEGIN:STANDARD
TZOFFSETFROM:-0500
TZOFFSETTO:-0600
TZNAME:CST
DTSTART:20261101T070000
END:STANDARD
BEGIN:DAYLIGHT
TZOFFSETFROM:-0600
TZOFFSETTO:-0500
TZNAME:CDT
DTSTART:20270314T080000
END:DAYLIGHT
BEGIN:STANDARD
TZOFFSETFROM:-0500
TZOFFSETTO:-0600
TZNAME:CST
DTSTART:20271107T070000
END:STANDARD
END:VTIMEZONE
BEGIN:VEVENT
DTSTART;TZID=America/Chicago:20260425T130000
DTEND;TZID=America/Chicago:20260425T160000
DTSTAMP:20260425T052920
CREATED:20260418T173918Z
LAST-MODIFIED:20260418T173918Z
UID:2216-1777122000-1777132800@brasspeacock.com
SUMMARY:The Jerrells Swing Band
DESCRIPTION:The Jerrells Swing Band doesn’t just play music—they roll it out like a well-worn dance floor under your feet. \nHailing from Austin\, Texas\, The Jerrells bring a high-octane blend of Western swing\, vintage country\, and jump blues that feels equal parts honky-tonk heartbeat and big band swagger. Rooted in the golden era of American dance halls but wired with modern energy\, their sound tips its hat to legends like Bob Wills and Hank Williams while kicking up dust of its own. \nFeaturing a lineup of seasoned players—fiddle that sings\, guitar that snaps\, upright bass that walks with authority\, keys that shimmer\, and drums that keep the whole train on the rails—the band delivers a tight\, joyful groove built for movement. Whether it’s a two-step\, a slow sway\, or a full-on spin across the floor\, their sets feel like a time machine with a rhythm section. \nKnown for their sharp style\, easy charm\, and toe-tapping chemistry\, The Jerrells have become a staple of the Texas roots scene—bringing vintage sounds back to life with a wink\, a grin\, and just enough grit to keep it interesting. \nCatch them live\, and don’t plan on sitting still.
URL:https://brasspeacock.com/event/the-jerrells-swing-band/
LOCATION:Brass Peacock\n113 E Eighth St\nGeorgetown TX 78626\nUnited States
CATEGORIES:Guitar,Jazz,Singer,Swing
ATTACH;FMTTYPE=image/png:https://brasspeacock.com/wp-content/uploads/2026/04/ChatGPT-Image-Apr-18-2026-12_37_41-PM.png
END:VEVENT
BEGIN:VEVENT
DTSTART;TZID=America/Chicago:20260425T183000
DTEND;TZID=America/Chicago:20260425T223000
DTSTAMP:20260425T052920
CREATED:20260421T230900Z
LAST-MODIFIED:20260421T230900Z
UID:2227-1777141800-1777156200@brasspeacock.com
SUMMARY:Trevor Gonzalez Trio
DESCRIPTION:Trevor Gonzalez is a San Marcos–based saxophonist currently pursuing his Master’s degree in Jazz Performance at Texas State University under the mentorship of Professor Joel Frahm. He previously earned his Bachelor’s degree from the same institution\, continuing to refine a voice that is both technically grounded and deeply expressive. \nMusically versatile and stylistically fluid\, Trevor draws from a broad spectrum of traditions. He performs regularly throughout Central Texas\, appearing with second line ensembles\, blues bands\, and leading his own jazz groups. His playing has been featured at Love Supreme Pizza Bar\, Monks Jazz Club\, and other respected venues across the greater Austin area. \nFor Trevor\, music is never merely background sound. It is a vehicle for intensity\, emotion\, and genuine connection. Whether performing live or recording in the studio\, he brings focus\, energy\, and a compelling presence to every setting. \nHe is currently performing in a trio format alongside bassist Mercedes Solis and drummer Mati Soto. \n\n\n\n\n Add to calendar
URL:https://brasspeacock.com/event/trevor-gonzalez-trio-4/
LOCATION:Brass Peacock\n113 E Eighth St\nGeorgetown TX 78626\nUnited States
CATEGORIES:Jazz,Standards,Swing
ATTACH;FMTTYPE=image/jpeg:https://brasspeacock.com/wp-content/uploads/2025/08/A-New-Design-Made-with-PosterMyWall-5-e1757006794699.jpg
END:VEVENT
END:VCALENDAR