BEGIN:VCALENDAR
VERSION:2.0
PRODID:-//Brass Peacock - ECPv6.15.20//NONSGML v1.0//EN
CALSCALE:GREGORIAN
METHOD:PUBLISH
X-WR-CALNAME:Brass Peacock
X-ORIGINAL-URL:https://brasspeacock.com
X-WR-CALDESC:Events for Brass Peacock
REFRESH-INTERVAL;VALUE=DURATION:PT1H
X-Robots-Tag:noindex
X-PUBLISHED-TTL:PT1H
BEGIN:VTIMEZONE
TZID:America/Chicago
BEGIN:DAYLIGHT
TZOFFSETFROM:-0600
TZOFFSETTO:-0500
TZNAME:CDT
DTSTART:20250309T080000
END:DAYLIGHT
BEGIN:STANDARD
TZOFFSETFROM:-0500
TZOFFSETTO:-0600
TZNAME:CST
DTSTART:20251102T070000
END:STANDARD
BEGIN:DAYLIGHT
TZOFFSETFROM:-0600
TZOFFSETTO:-0500
TZNAME:CDT
DTSTART:20260308T080000
END:DAYLIGHT
BEGIN:STANDARD
TZOFFSETFROM:-0500
TZOFFSETTO:-0600
TZNAME:CST
DTSTART:20261101T070000
END:STANDARD
BEGIN:DAYLIGHT
TZOFFSETFROM:-0600
TZOFFSETTO:-0500
TZNAME:CDT
DTSTART:20270314T080000
END:DAYLIGHT
BEGIN:STANDARD
TZOFFSETFROM:-0500
TZOFFSETTO:-0600
TZNAME:CST
DTSTART:20271107T070000
END:STANDARD
END:VTIMEZONE
BEGIN:VEVENT
DTSTART;TZID=America/Chicago:20260520T190000
DTEND;TZID=America/Chicago:20260520T220000
DTSTAMP:20260420T220105
CREATED:20260415T182330Z
LAST-MODIFIED:20260415T182330Z
UID:2191-1779303600-1779314400@brasspeacock.com
SUMMARY:Johnny Dioxide
DESCRIPTION:Hailing from Austin\, Texas\, intergalactic space cowboy Johnny Dioxide—chemical formula JO₂—is the disembodied voice of a lovelorn ghost drifting through the cosmic plains. He calls his sound Ghost Rock: a genre that is intricate yet breezy\, haunting yet playful\, all wrapped in a sweet Western charm that invites listeners to leisurely mosey along the astral trail. \n 
URL:https://brasspeacock.com/event/johnny-dioxide-5/
LOCATION:Brass Peacock\n113 E Eighth St\nGeorgetown TX 78626\nUnited States
CATEGORIES:Fusion,Guitar,Singer
ATTACH;FMTTYPE=image/png:https://brasspeacock.com/wp-content/uploads/2026/04/ChatGPT-Image-Apr-15-2026-01_19_29-PM.png
END:VEVENT
END:VCALENDAR